BEGIN:VCALENDAR
VERSION:2.0
PRODID:-//The Racecourse Inn - ECPv4.6.10.1//NONSGML v1.0//EN
CALSCALE:GREGORIAN
METHOD:PUBLISH
X-WR-CALNAME:The Racecourse Inn
X-ORIGINAL-URL:http://www.longfordaccommodation.com.au
X-WR-CALDESC:Events for The Racecourse Inn
BEGIN:VEVENT
DTSTART;VALUE=DATE:20180309
DTEND;VALUE=DATE:20180319
DTSTAMP:20180226T122108
CREATED:20180130T235438Z
LAST-MODIFIED:20180212T015731Z
UID:9167-1520553600-1521417599@www.longfordaccommodation.com.au
SUMMARY:Glover Prize 2018
DESCRIPTION:Celebrating the legacy of John Glover\, The John Glover Art Prize (Glover Prize) has become one of Australia’s most significant awards for landscape painting\, open to artists from anywhere in the world. \nIt is awarded annually by The John Glover Society Inc. for the work judged the best contemporary landscape painting of Tasmania. \nLandscape painting is defined in its broadest sense. The aim is to stimulate conversations about the meaning and possibilities expressed in the words landscape\, painting and Tasmania. \nThe winner receives $50\,000 plus a bronze maquette of colonial artist John Glover\, designed by Peter Corlett and valued at $5000. \nThe Glover Prize is acquisitive\, selected from around 40 works chosen by a panel of eminent judges. All other exhibitied entries are eligible for the (non-acquisitive) People’s Chouice Award of $3000\, the Children’s Choice Award of $500 and the Hanger’s Choice Award of $500. \nThe exhibition of finalists’ paintings is held over the March long-weekend in the historic Falls Park pavilion in Evandale\, a village on the beautiful northern plains of Tasmania. \n \n \n
URL:http://www.longfordaccommodation.com.au/event/glover-prize-2018/
LOCATION:Evandale\, Tasmania\, 7212\, Australia
ATTACH;FMTTYPE=image/png:http://www.longfordaccommodation.com.au/wp-content/uploads/2018/01/glover-prize-logo-usp.png
END:VEVENT
BEGIN:VEVENT
DTSTART;VALUE=DATE:20180504
DTEND;VALUE=DATE:20180507
DTSTAMP:20180226T122108
CREATED:20180131T013735Z
LAST-MODIFIED:20180131T013736Z
UID:9170-1525392000-1525651199@www.longfordaccommodation.com.au
SUMMARY:Agfest 2018
DESCRIPTION:Agfest is an agricultural and machinery field day event that has been operating for 35 years. It is a Tasmanian success story that injects millions of dollars into our local economy annually. Agfest today is recognised throughout Australia and is recognised in the top 3 field day events. \nAgfest is organised and managed by Rural Youth Tasmania\, a non-profit organisation whose members are aged between 15 and 30 years of age. The Agfest Committee is a volunteer role of approximately 60 Rural Youth members. Being on the Agfest organising committee is a powerful training tool that provides diverse skills and experiences. It is a unique training ground with opportunity for swift personal growth and extensive leadership training for those involved.  \nAgfest continues to grow each year\, the 2017 Agfest attracting 62\,787 patrons and 758 exhibitors. \nAgfest provides companies\, businesses and organisations the chance to make strong and viable connections with the public and is a proven successful method of direct marketing. Being part of the field days will ensure that your products and services are seen by the largest number of potential buyers in the shortest possible time. Its direct and personal and it connects industries with customers and clients. Its face to face business that works to grow businesses and expand your customer and client base. From market research the estimate overall spend at Agfest 2015 by patrons was $26\,090\,819. \nThe Agfest Committee invite you to consider aligning your business with Agfest and become a part of the success story. There are flexible range of sponsorship opportunities available for businesses to capitalize on the success of Agfest and promote your own business to event patrons. \n \n
URL:http://www.longfordaccommodation.com.au/event/agfest-2018/
LOCATION:415 Oaks Road\, Carrick\, Tasmania\, 7291\, Australia
CATEGORIES:Ag show,Agriculture,Field Day
ATTACH;FMTTYPE=image/png:http://www.longfordaccommodation.com.au/wp-content/uploads/2018/01/agfest_logo@2x.png
END:VEVENT
BEGIN:VEVENT
DTSTART;VALUE=DATE:20180525
DTEND;VALUE=DATE:20180527
DTSTAMP:20180226T122108
CREATED:20180131T014455Z
LAST-MODIFIED:20180131T014455Z
UID:9173-1527206400-1527379199@www.longfordaccommodation.com.au
SUMMARY:Campbell Town Show
DESCRIPTION:Tasmania’s ‘Paddock to People Show’.  A vibrant celebration of all things rural – Put it in your diary now!! \nCome and visit the Southern Hemisphere’s oldest continually running Agricultural Show and listed by The National Trust as part of our Island State’s Living history\, The Campbell Town Show has always been the venue for country and town people to meet together and exchange views and opinions. \n​The beauty of this special show is the interest of it’s history\, the charm of the township and especially the warmth and friendliness of its people\, who welcome visitors to attend and share the experience. \nCampbell Town is in the Northern Midlands of Tasmania which is about a 50 minute drive from Launceston (67km) and about 1 hour and 45 minutes from Hobart (120km).  The Campbell Town Show Grounds are on the corner of Church Street and Glenelg Street in Campbell Town\, Tasmania.  \nThe Campbell Town Show is a smoke-free event. \n \n
URL:http://www.longfordaccommodation.com.au/event/campbell-town-show-2/
LOCATION:Campbell Town \, Tasmania\, Australia
CATEGORIES:Ag show
ATTACH;FMTTYPE=image/jpeg:http://www.longfordaccommodation.com.au/wp-content/uploads/2018/01/d179e4_5175cd96075a4312a04ee09f603638cb.jpg
END:VEVENT
BEGIN:VEVENT
DTSTART;VALUE=DATE:20181102
DTEND;VALUE=DATE:20181106
DTSTAMP:20180226T122108
CREATED:20180212T011948Z
LAST-MODIFIED:20180212T015507Z
UID:9243-1541116800-1541462399@www.longfordaccommodation.com.au
SUMMARY:Tasmanian Craft Fair 2018
DESCRIPTION:The Tasmanian Craft Fair is the largest working display of arts and crafts in Australia with more than 200 artists and artisans and 15\,000 annual visitors.   \n\nEvery year since 1981\, TCF visitors have been treated to fine art displays\, craft stalls\, gourmet food\, entertainment and children’s fun activities as well as working craft displays. \nTravel between the various TCF venues in free buses and enoy the picturesque northern Tasmanian town of Deloraine.  Enjoy delicious food and great Tasmanian wine whilst being entertained by local artists.  Held annually in the picturesque township of Deloraine in northern Tasmania\, an amazing array of talented artists and craftspeople exhibit and demonstrate their work as part of the Tasmanian Craft Fair. \nAvoid the queue and save by booking online – tickets for the 2018 Tasmanian Craft Fair will be on sale early in 2018. \n\n  \n \n \n \n
URL:http://www.longfordaccommodation.com.au/event/craft-fair/
LOCATION:Tasmania\, Australia
CATEGORIES:Art,Craft,Food and wine
ATTACH;FMTTYPE=image/png:http://www.longfordaccommodation.com.au/wp-content/uploads/2018/02/logo.png
END:VEVENT
BEGIN:VEVENT
DTSTART;VALUE=DATE:20191101
DTEND;VALUE=DATE:20200101
DTSTAMP:20180226T122108
CREATED:20160420T025613Z
LAST-MODIFIED:20160420T030424Z
UID:8243-1572566400-1577836799@www.longfordaccommodation.com.au
SUMMARY:World Fly Fishing Championships 2019
DESCRIPTION:Brumby’s Creek is excellent fly fishing. \nTasmania will host the World Fly Championships in November 2019. At least five fishing hotspots will be chosen for the Championships. The World Fly Fishing Championship is organised by FIPS Mouche and takes place annually between 27 teams (in 2013) of five individuals per country. Five rounds of 3 hours of fly fishing are fished at 5 different venues over 3 days; points are awarded to the most successful anglers. All fish are measured for length rather than weighed and are returned to the water unharmed. \nThe event is to be held across November and December in 2019 and include locations such as the South Esk\, Mersey and Meander rivers as well as Authurs\, Four Springs\, Huntsman and Woods lakes and Little Pine\, and Penstock lagoons. The IFFF will visit the venues in November 2018 to shortlist the final waterways to be used. \nDates are to be confirmed. \n
URL:http://www.longfordaccommodation.com.au/event/world-fly-fishing-championships/
LOCATION:Tasmania\, Australia
CATEGORIES:Fishing
END:VEVENT
END:VCALENDAR